BEGIN:VCALENDAR
VERSION:2.0
PRODID:-//International Cost Estimating and Analysis Association - ECPv6.2.2//NONSGML v1.0//EN
CALSCALE:GREGORIAN
METHOD:PUBLISH
X-ORIGINAL-URL:https://www.iceaaonline.com
X-WR-CALDESC:Events for International Cost Estimating and Analysis Association
REFRESH-INTERVAL;VALUE=DURATION:PT1H
X-Robots-Tag:noindex
X-PUBLISHED-TTL:PT1H
BEGIN:VTIMEZONE
TZID:America/New_York
BEGIN:DAYLIGHT
TZOFFSETFROM:-0500
TZOFFSETTO:-0400
TZNAME:EDT
DTSTART:20260308T070000
END:DAYLIGHT
BEGIN:STANDARD
TZOFFSETFROM:-0400
TZOFFSETTO:-0500
TZNAME:EST
DTSTART:20261101T060000
END:STANDARD
END:VTIMEZONE
BEGIN:VEVENT
DTSTART;TZID=America/New_York:20260430T180000
DTEND;TZID=America/New_York:20260430T200000
DTSTAMP:20260424T085125
CREATED:20260403T195254Z
LAST-MODIFIED:20260403T195254Z
UID:22682-1777572000-1777579200@www.iceaaonline.com
SUMMARY:WCA Chapter 2026 Workshop Presentation Practice
DESCRIPTION:Please join the Washington Capital Area Chapter of ICEAA for the:\n2026 Norfolk Workshop Presentation Practice\nThursday\, April 30th | 6:00 – 8:00 PM ET\n \nPlease join the Washington Capital Area Chapter (WCAC) of ICEAA for our 2026 Norfolk Workshop Presentation Practice. \nThis event will be hosted for WCAC members who wish to practice their 2026 ICEAA Professional Development & Training Workshop presentations amongst peers within their local cost community. Peer reviewers will be available to ask questions and provide constructive feedback\, helping to strengthen presentations ahead of the formal workshop. In between sessions\, make sure to grab some complementary drinks and snacks! \nWe highly encourage WCAC members to come out and practice their presentations as well as support their fellow colleagues!  Don’t wait\, RSVP here or via the link below! \nImportant Event Details: \nWhat: WCAC of ICEAA 2026 Norfolk Workshop Presentation Practice\nWhen: Thursday\, April 30th | 6:00 – 8:00 PM ET\nWhere: Technomics\, Inc. | 1225 S Clark St\, Suite 1500\, Arlington\, VA 22202 \nRSVP:\nPLEASE RSVP NO LATER THAN MONDAY\, April 27th\, 2026 \nClick HERE to RSVP \nor scan the QR Code: \n \nFor any questions/concerns related to this event\, please send an email to the WCAC Social/Service Chair\, Cameron Atkins-Bennage (events.washington.iceaa@gmail.com) \nEvent Access:\nClosest Metro Crystal City Metro Station. Trip Planner | WMATA\nClosest VRE Stop: Crystal City Train Station. VRE Schedules\nParking: Jefferson Plaza parking garage | 1400 Crystal Cr\, Arlington\, VA 22202
URL:https://www.iceaaonline.com/calendar/wcac043026/
LOCATION:Technomics\, Inc.\, 1225 South Clark Street\, Suite 1500\, Arlington\, VA\, 22002\, United States
END:VEVENT
END:VCALENDAR